BEGIN:VCALENDAR
VERSION:2.0
PRODID:-//jEvents 2.0 for Joomla//EN
CALSCALE:GREGORIAN
METHOD:PUBLISH
BEGIN:VTIMEZONE
TZID:Europe/Berlin
BEGIN:STANDARD
DTSTART:20141026T020000
RDATE:20150329T030000
TZOFFSETFROM:+0200
TZOFFSETTO:+0100
TZNAME:Europe/Berlin CET
END:STANDARD
BEGIN:STANDARD
DTSTART:20151025T020000
RDATE:20160327T030000
TZOFFSETFROM:+0200
TZOFFSETTO:+0100
TZNAME:Europe/Berlin CET
END:STANDARD
BEGIN:STANDARD
DTSTART:20161030T020000
RDATE:20170326T030000
TZOFFSETFROM:+0200
TZOFFSETTO:+0100
TZNAME:Europe/Berlin CET
END:STANDARD
BEGIN:STANDARD
DTSTART:20171029T020000
RDATE:20180325T030000
TZOFFSETFROM:+0200
TZOFFSETTO:+0100
TZNAME:Europe/Berlin CET
END:STANDARD
BEGIN:STANDARD
DTSTART:20181028T020000
RDATE:20190331T030000
TZOFFSETFROM:+0200
TZOFFSETTO:+0100
TZNAME:Europe/Berlin CET
END:STANDARD
BEGIN:STANDARD
DTSTART:20191027T020000
RDATE:20200329T030000
TZOFFSETFROM:+0200
TZOFFSETTO:+0100
TZNAME:Europe/Berlin CET
END:STANDARD
BEGIN:STANDARD
DTSTART:20201025T020000
RDATE:20210328T030000
TZOFFSETFROM:+0200
TZOFFSETTO:+0100
TZNAME:Europe/Berlin CET
END:STANDARD
BEGIN:STANDARD
DTSTART:20211031T020000
RDATE:20220327T030000
TZOFFSETFROM:+0200
TZOFFSETTO:+0100
TZNAME:Europe/Berlin CET
END:STANDARD
BEGIN:STANDARD
DTSTART:20221030T020000
RDATE:20230326T030000
TZOFFSETFROM:+0200
TZOFFSETTO:+0100
TZNAME:Europe/Berlin CET
END:STANDARD
BEGIN:STANDARD
DTSTART:20231029T020000
RDATE:20240331T030000
TZOFFSETFROM:+0200
TZOFFSETTO:+0100
TZNAME:Europe/Berlin CET
END:STANDARD
BEGIN:STANDARD
DTSTART:20241027T020000
RDATE:20250330T030000
TZOFFSETFROM:+0200
TZOFFSETTO:+0100
TZNAME:Europe/Berlin CET
END:STANDARD
BEGIN:STANDARD
DTSTART:20251026T020000
RDATE:20260329T030000
TZOFFSETFROM:+0200
TZOFFSETTO:+0100
TZNAME:Europe/Berlin CET
END:STANDARD
BEGIN:STANDARD
DTSTART:20261025T020000
RDATE:20270328T030000
TZOFFSETFROM:+0200
TZOFFSETTO:+0100
TZNAME:Europe/Berlin CET
END:STANDARD
BEGIN:STANDARD
DTSTART:20271031T020000
RDATE:20280326T030000
TZOFFSETFROM:+0200
TZOFFSETTO:+0100
TZNAME:Europe/Berlin CET
END:STANDARD
BEGIN:STANDARD
DTSTART:20281029T020000
RDATE:20290325T030000
TZOFFSETFROM:+0200
TZOFFSETTO:+0100
TZNAME:Europe/Berlin CET
END:STANDARD
BEGIN:STANDARD
DTSTART:20291028T020000
RDATE:20300331T030000
TZOFFSETFROM:+0200
TZOFFSETTO:+0100
TZNAME:Europe/Berlin CET
END:STANDARD
BEGIN:STANDARD
DTSTART:20301027T020000
RDATE:20310330T030000
TZOFFSETFROM:+0200
TZOFFSETTO:+0100
TZNAME:Europe/Berlin CET
END:STANDARD
BEGIN:DAYLIGHT
DTSTART:20140821T140000
RDATE:20141026T020000
TZOFFSETFROM:+0100
TZOFFSETTO:+0200
TZNAME:Europe/Berlin CEST
END:DAYLIGHT
BEGIN:DAYLIGHT
DTSTART:20150329T030000
RDATE:20151025T020000
TZOFFSETFROM:+0100
TZOFFSETTO:+0200
TZNAME:Europe/Berlin CEST
END:DAYLIGHT
BEGIN:DAYLIGHT
DTSTART:20160327T030000
RDATE:20161030T020000
TZOFFSETFROM:+0100
TZOFFSETTO:+0200
TZNAME:Europe/Berlin CEST
END:DAYLIGHT
BEGIN:DAYLIGHT
DTSTART:20170326T030000
RDATE:20171029T020000
TZOFFSETFROM:+0100
TZOFFSETTO:+0200
TZNAME:Europe/Berlin CEST
END:DAYLIGHT
BEGIN:DAYLIGHT
DTSTART:20180325T030000
RDATE:20181028T020000
TZOFFSETFROM:+0100
TZOFFSETTO:+0200
TZNAME:Europe/Berlin CEST
END:DAYLIGHT
BEGIN:DAYLIGHT
DTSTART:20190331T030000
RDATE:20191027T020000
TZOFFSETFROM:+0100
TZOFFSETTO:+0200
TZNAME:Europe/Berlin CEST
END:DAYLIGHT
BEGIN:DAYLIGHT
DTSTART:20200329T030000
RDATE:20201025T020000
TZOFFSETFROM:+0100
TZOFFSETTO:+0200
TZNAME:Europe/Berlin CEST
END:DAYLIGHT
BEGIN:DAYLIGHT
DTSTART:20210328T030000
RDATE:20211031T020000
TZOFFSETFROM:+0100
TZOFFSETTO:+0200
TZNAME:Europe/Berlin CEST
END:DAYLIGHT
BEGIN:DAYLIGHT
DTSTART:20220327T030000
RDATE:20221030T020000
TZOFFSETFROM:+0100
TZOFFSETTO:+0200
TZNAME:Europe/Berlin CEST
END:DAYLIGHT
BEGIN:DAYLIGHT
DTSTART:20230326T030000
RDATE:20231029T020000
TZOFFSETFROM:+0100
TZOFFSETTO:+0200
TZNAME:Europe/Berlin CEST
END:DAYLIGHT
BEGIN:DAYLIGHT
DTSTART:20240331T030000
RDATE:20241027T020000
TZOFFSETFROM:+0100
TZOFFSETTO:+0200
TZNAME:Europe/Berlin CEST
END:DAYLIGHT
BEGIN:DAYLIGHT
DTSTART:20250330T030000
RDATE:20251026T020000
TZOFFSETFROM:+0100
TZOFFSETTO:+0200
TZNAME:Europe/Berlin CEST
END:DAYLIGHT
BEGIN:DAYLIGHT
DTSTART:20260329T030000
RDATE:20261025T020000
TZOFFSETFROM:+0100
TZOFFSETTO:+0200
TZNAME:Europe/Berlin CEST
END:DAYLIGHT
BEGIN:DAYLIGHT
DTSTART:20270328T030000
RDATE:20271031T020000
TZOFFSETFROM:+0100
TZOFFSETTO:+0200
TZNAME:Europe/Berlin CEST
END:DAYLIGHT
BEGIN:DAYLIGHT
DTSTART:20280326T030000
RDATE:20281029T020000
TZOFFSETFROM:+0100
TZOFFSETTO:+0200
TZNAME:Europe/Berlin CEST
END:DAYLIGHT
BEGIN:DAYLIGHT
DTSTART:20290325T030000
RDATE:20291028T020000
TZOFFSETFROM:+0100
TZOFFSETTO:+0200
TZNAME:Europe/Berlin CEST
END:DAYLIGHT
BEGIN:DAYLIGHT
DTSTART:20300331T030000
RDATE:20301027T020000
TZOFFSETFROM:+0100
TZOFFSETTO:+0200
TZNAME:Europe/Berlin CEST
END:DAYLIGHT
END:VTIMEZONE
BEGIN:VEVENT
UID:39eb82552cf28d2e024cd2ec3b853152
CATEGORIES:Standard
CREATED:20150625T082622
SUMMARY:Natürliche Kinderernährung
LOCATION:Therapieküche
DESCRIPTION;ENCODING=QUOTED-PRINTABLE:<p>Liebe Eltern, Großeltern und an alle Interessierten!</p><p> </p><p>Wer h
 at Lust Neues kennenzulernen, über Trends zu diskutieren und gemeinsam zu<b
 r />kochen? Es wird im Sommer und im Herbst an der Müritz einen Nachmittag 
 und<br />Abend zur natürlichen Kinderernährung geben. Alle sind herzlich ei
 ngeladen!</p><p> </p><p><strong>Themen</strong></p><p>- Rohkost:"Mehr als n
 ur Obst und Gemüse?", Basiswissen, Vor- und Nachteile!</p><p>- Ideen und An
 regungen für Schule und unterwegs</p><p>- Gemeinsames Zubereiten und genieß
 en diverser Kindgerechter Variationen</p><p> </p><p>Teilnahmegebühren: 39 &
 euro; (inkl. Unterlagen, Rezepte und Verzehr)</p><p> </p><p><strong>Anmeldu
 ng an:</strong></p><p><span style="color: black; font-family: 'Helvetica',s
 ans-serif;">Kerstin Sündermann </span></p><p><span class="apple-style-span"
 ><span style="color: black; font-family: 'Helvetica',sans-serif; font-size:
  8.5pt;">Ernährungsberaterin für Kinder</span></span></p><p><span class="ap
 ple-style-span"><span style="color: black; font-family: 'Helvetica',sans-se
 rif; font-size: 8.5pt;">Maienhöhe 17</span></span></p><p><span class="apple
 -style-span"><span style="color: black; font-family: 'Helvetica',sans-serif
 ; font-size: 8.5pt;">15569 Woltersdorf</span></span></p><p><span style="col
 or: #f12a88;">Festnetz: </span><span class="apple-style-span"><span style="
 color: #231e20; font-size: 8.5pt;">03362 9380895</span></span><span style="
 color: #c0206d; font-size: 8.5pt;"><br /> <br /> </span></p><p><span class=
 "apple-style-span"><span style="color: #c0206d; font-family: 'Helvetica',sa
 ns-serif; font-size: 8.5pt;">Mobil:</span></span><span class="apple-convert
 ed-space"></span><span class="apple-style-span"><span style="color: #231e20
 ; font-family: 'Helvetica',sans-serif; font-size: 8.5pt;">0170 3269124</spa
 n></span><span class="apple-converted-space"></span><span class="apple-styl
 e-span"></span></p><p><span class="apple-style-span"><span style="color: #c
 0206d; font-family: 'Helvetica',sans-serif; font-size: 8.5pt;">E-Mail:</spa
 n></span><span class="apple-converted-space"></span><span id="cloak4ec0f6b0
 50dfb827f4d2f6b37c75a82b">Diese E-Mail-Adresse ist vor Spambots geschützt! 
 Zur Anzeige muss JavaScript eingeschaltet sein!</span><script type='text/ja
 vascript'>
				document.getElementById('cloak4ec0f6b050dfb827f4d2f6b37c75a8
 2b').innerHTML = '';
				var prefix = 'ma' + 'il' + 'to';
				var path = 'h
 r' + 'ef' + '=';
				var addy4ec0f6b050dfb827f4d2f6b37c75a82b = 'k.suenderm
 ann' + '@';
				addy4ec0f6b050dfb827f4d2f6b37c75a82b = addy4ec0f6b050dfb827
 f4d2f6b37c75a82b + 'gmx' + '.' + 'de';
				var addy_text4ec0f6b050dfb827f4d
 2f6b37c75a82b = '<span style="font-family: 'Helvetica',sans-serif; font-siz
 e: 8.5pt;">k.suendermann' + '@' + 'gmx' + '.' + 'de</span>';document.getEle
 mentById('cloak4ec0f6b050dfb827f4d2f6b37c75a82b').innerHTML += '<a ' + path
  + '\'' + prefix + ':' + addy4ec0f6b050dfb827f4d2f6b37c75a82b + '\' target=
 "_blank">'+addy_text4ec0f6b050dfb827f4d2f6b37c75a82b+'<\/a>';
		</script><s
 pan class="apple-style-span"></span></p>
DTSTAMP:20260424T183708Z
DTSTART;TZID=Europe/Berlin:20150822T140000
DTEND;TZID=Europe/Berlin:20150822T173000
SEQUENCE:0
TRANSP:OPAQUE
END:VEVENT
END:VCALENDAR