BEGIN:VCALENDAR
VERSION:2.0
PRODID:-//jEvents 2.0 for Joomla//EN
CALSCALE:GREGORIAN
METHOD:PUBLISH
BEGIN:VTIMEZONE
TZID:Europe/Berlin
BEGIN:STANDARD
DTSTART:20141027T180000
RDATE:20150329T030000
TZOFFSETFROM:+0200
TZOFFSETTO:+0100
TZNAME:Europe/Berlin CET
END:STANDARD
BEGIN:STANDARD
DTSTART:20151025T020000
RDATE:20160327T030000
TZOFFSETFROM:+0200
TZOFFSETTO:+0100
TZNAME:Europe/Berlin CET
END:STANDARD
BEGIN:STANDARD
DTSTART:20161030T020000
RDATE:20170326T030000
TZOFFSETFROM:+0200
TZOFFSETTO:+0100
TZNAME:Europe/Berlin CET
END:STANDARD
BEGIN:STANDARD
DTSTART:20171029T020000
RDATE:20180325T030000
TZOFFSETFROM:+0200
TZOFFSETTO:+0100
TZNAME:Europe/Berlin CET
END:STANDARD
BEGIN:STANDARD
DTSTART:20181028T020000
RDATE:20190331T030000
TZOFFSETFROM:+0200
TZOFFSETTO:+0100
TZNAME:Europe/Berlin CET
END:STANDARD
BEGIN:STANDARD
DTSTART:20191027T020000
RDATE:20200329T030000
TZOFFSETFROM:+0200
TZOFFSETTO:+0100
TZNAME:Europe/Berlin CET
END:STANDARD
BEGIN:STANDARD
DTSTART:20201025T020000
RDATE:20210328T030000
TZOFFSETFROM:+0200
TZOFFSETTO:+0100
TZNAME:Europe/Berlin CET
END:STANDARD
BEGIN:STANDARD
DTSTART:20211031T020000
RDATE:20220327T030000
TZOFFSETFROM:+0200
TZOFFSETTO:+0100
TZNAME:Europe/Berlin CET
END:STANDARD
BEGIN:STANDARD
DTSTART:20221030T020000
RDATE:20230326T030000
TZOFFSETFROM:+0200
TZOFFSETTO:+0100
TZNAME:Europe/Berlin CET
END:STANDARD
BEGIN:STANDARD
DTSTART:20231029T020000
RDATE:20240331T030000
TZOFFSETFROM:+0200
TZOFFSETTO:+0100
TZNAME:Europe/Berlin CET
END:STANDARD
BEGIN:STANDARD
DTSTART:20241027T020000
RDATE:20250330T030000
TZOFFSETFROM:+0200
TZOFFSETTO:+0100
TZNAME:Europe/Berlin CET
END:STANDARD
BEGIN:STANDARD
DTSTART:20251026T020000
RDATE:20260329T030000
TZOFFSETFROM:+0200
TZOFFSETTO:+0100
TZNAME:Europe/Berlin CET
END:STANDARD
BEGIN:STANDARD
DTSTART:20261025T020000
RDATE:20270328T030000
TZOFFSETFROM:+0200
TZOFFSETTO:+0100
TZNAME:Europe/Berlin CET
END:STANDARD
BEGIN:STANDARD
DTSTART:20271031T020000
RDATE:20280326T030000
TZOFFSETFROM:+0200
TZOFFSETTO:+0100
TZNAME:Europe/Berlin CET
END:STANDARD
BEGIN:STANDARD
DTSTART:20281029T020000
RDATE:20290325T030000
TZOFFSETFROM:+0200
TZOFFSETTO:+0100
TZNAME:Europe/Berlin CET
END:STANDARD
BEGIN:STANDARD
DTSTART:20291028T020000
RDATE:20300331T030000
TZOFFSETFROM:+0200
TZOFFSETTO:+0100
TZNAME:Europe/Berlin CET
END:STANDARD
BEGIN:STANDARD
DTSTART:20301027T020000
RDATE:20310330T030000
TZOFFSETFROM:+0200
TZOFFSETTO:+0100
TZNAME:Europe/Berlin CET
END:STANDARD
BEGIN:DAYLIGHT
DTSTART:20150329T030000
RDATE:20151025T020000
TZOFFSETFROM:+0100
TZOFFSETTO:+0200
TZNAME:Europe/Berlin CEST
END:DAYLIGHT
BEGIN:DAYLIGHT
DTSTART:20160327T030000
RDATE:20161030T020000
TZOFFSETFROM:+0100
TZOFFSETTO:+0200
TZNAME:Europe/Berlin CEST
END:DAYLIGHT
BEGIN:DAYLIGHT
DTSTART:20170326T030000
RDATE:20171029T020000
TZOFFSETFROM:+0100
TZOFFSETTO:+0200
TZNAME:Europe/Berlin CEST
END:DAYLIGHT
BEGIN:DAYLIGHT
DTSTART:20180325T030000
RDATE:20181028T020000
TZOFFSETFROM:+0100
TZOFFSETTO:+0200
TZNAME:Europe/Berlin CEST
END:DAYLIGHT
BEGIN:DAYLIGHT
DTSTART:20190331T030000
RDATE:20191027T020000
TZOFFSETFROM:+0100
TZOFFSETTO:+0200
TZNAME:Europe/Berlin CEST
END:DAYLIGHT
BEGIN:DAYLIGHT
DTSTART:20200329T030000
RDATE:20201025T020000
TZOFFSETFROM:+0100
TZOFFSETTO:+0200
TZNAME:Europe/Berlin CEST
END:DAYLIGHT
BEGIN:DAYLIGHT
DTSTART:20210328T030000
RDATE:20211031T020000
TZOFFSETFROM:+0100
TZOFFSETTO:+0200
TZNAME:Europe/Berlin CEST
END:DAYLIGHT
BEGIN:DAYLIGHT
DTSTART:20220327T030000
RDATE:20221030T020000
TZOFFSETFROM:+0100
TZOFFSETTO:+0200
TZNAME:Europe/Berlin CEST
END:DAYLIGHT
BEGIN:DAYLIGHT
DTSTART:20230326T030000
RDATE:20231029T020000
TZOFFSETFROM:+0100
TZOFFSETTO:+0200
TZNAME:Europe/Berlin CEST
END:DAYLIGHT
BEGIN:DAYLIGHT
DTSTART:20240331T030000
RDATE:20241027T020000
TZOFFSETFROM:+0100
TZOFFSETTO:+0200
TZNAME:Europe/Berlin CEST
END:DAYLIGHT
BEGIN:DAYLIGHT
DTSTART:20250330T030000
RDATE:20251026T020000
TZOFFSETFROM:+0100
TZOFFSETTO:+0200
TZNAME:Europe/Berlin CEST
END:DAYLIGHT
BEGIN:DAYLIGHT
DTSTART:20260329T030000
RDATE:20261025T020000
TZOFFSETFROM:+0100
TZOFFSETTO:+0200
TZNAME:Europe/Berlin CEST
END:DAYLIGHT
BEGIN:DAYLIGHT
DTSTART:20270328T030000
RDATE:20271031T020000
TZOFFSETFROM:+0100
TZOFFSETTO:+0200
TZNAME:Europe/Berlin CEST
END:DAYLIGHT
BEGIN:DAYLIGHT
DTSTART:20280326T030000
RDATE:20281029T020000
TZOFFSETFROM:+0100
TZOFFSETTO:+0200
TZNAME:Europe/Berlin CEST
END:DAYLIGHT
BEGIN:DAYLIGHT
DTSTART:20290325T030000
RDATE:20291028T020000
TZOFFSETFROM:+0100
TZOFFSETTO:+0200
TZNAME:Europe/Berlin CEST
END:DAYLIGHT
BEGIN:DAYLIGHT
DTSTART:20300331T030000
RDATE:20301027T020000
TZOFFSETFROM:+0100
TZOFFSETTO:+0200
TZNAME:Europe/Berlin CEST
END:DAYLIGHT
END:VTIMEZONE
BEGIN:VEVENT
UID:a80b2c0f67cd4829e595419964789fe8
CATEGORIES:Standard
CREATED:20150625T084822
SUMMARY:Natürliche Kinderernährung
LOCATION:Therapieküche
DESCRIPTION;ENCODING=QUOTED-PRINTABLE:<p>Liebe Eltern, Großeltern und an alle Interessierten!</p><p> </p><p>Wer h
 at Lust Neues kennenzulernen, über Trends zu diskutieren und gemeinsam zu<b
 r />kochen? Es wird im Sommer und im Herbst an der Müritz einen Nachmittag 
 und<br />Abend zur natürlichen Kinderernährung geben. Alle sind herzlich ei
 ngeladen!</p><p> </p><p><strong>Themen</strong></p><p>- gestärkt durch Herb
 st und Winter: Was wärmt, nährt und tut gut in der kühlen Jahreszeit?</p><p
 >- süße Naschereien: leckeres aus Kakao, Nüssen, Samen und Früchten</p><p>-
  gemeinsames zubereiten und genießen diverser kindgerechter Variationen</p>
 <p> </p><p>Teilnahmegebühren: 39 &euro; (inkl. Unterlagen, Rezepte und Verz
 ehr)</p><p> </p><p><strong>Anmeldung an:</strong></p><p><span style="color:
  black; font-family: 'Helvetica',sans-serif;">Kerstin Sündermann </span></p
 ><p><span class="apple-style-span"><span style="color: black; font-family: 
 'Helvetica',sans-serif; font-size: 8.5pt;">Ernährungsberaterin für Kinder</
 span></span></p><p><span class="apple-style-span"><span style="color: black
 ; font-family: 'Helvetica',sans-serif; font-size: 8.5pt;">Maienhöhe 17</spa
 n></span></p><p><span class="apple-style-span"><span style="color: black; f
 ont-family: 'Helvetica',sans-serif; font-size: 8.5pt;">15569 Woltersdorf</s
 pan></span></p><p><span style="color: #f12a88;">Festnetz: </span><span clas
 s="apple-style-span"><span style="color: #231e20; font-size: 8.5pt;">03362 
 9380895</span></span><span style="color: #c0206d; font-size: 8.5pt;"><br />
  <br /> </span></p><p><span class="apple-style-span"><span style="color: #c
 0206d; font-family: 'Helvetica',sans-serif; font-size: 8.5pt;">Mobil:</span
 ></span><span class="apple-converted-space"></span><span class="apple-style
 -span"><span style="color: #231e20; font-family: 'Helvetica',sans-serif; fo
 nt-size: 8.5pt;">0170 3269124</span></span><span class="apple-converted-spa
 ce"></span><span class="apple-style-span"></span></p><p><span class="apple-
 style-span"><span style="color: #c0206d; font-family: 'Helvetica',sans-seri
 f; font-size: 8.5pt;">E-Mail:</span></span><span class="apple-converted-spa
 ce"></span><span id="cloakcf10d192e8119e860b0d3c124bb0be53">Diese E-Mail-Ad
 resse ist vor Spambots geschützt! Zur Anzeige muss JavaScript eingeschaltet
  sein!</span><script type='text/javascript'>
				document.getElementById('c
 loakcf10d192e8119e860b0d3c124bb0be53').innerHTML = '';
				var prefix = 'ma
 ' + 'il' + 'to';
				var path = 'hr' + 'ef' + '=';
				var addycf10d192e811
 9e860b0d3c124bb0be53 = 'k.suendermann' + '@';
				addycf10d192e8119e860b0d3
 c124bb0be53 = addycf10d192e8119e860b0d3c124bb0be53 + 'gmx' + '.' + 'de';
		
 		var addy_textcf10d192e8119e860b0d3c124bb0be53 = '<span style="font-family
 : 'Helvetica',sans-serif; font-size: 8.5pt;">k.suendermann' + '@' + 'gmx' +
  '.' + 'de</span>';document.getElementById('cloakcf10d192e8119e860b0d3c124b
 b0be53').innerHTML += '<a ' + path + '\'' + prefix + ':' + addycf10d192e811
 9e860b0d3c124bb0be53 + '\' target="_blank">'+addy_textcf10d192e8119e860b0d3
 c124bb0be53+'<\/a>';
		</script><span class="apple-style-span"></span></p>
DTSTAMP:20260424T152618Z
DTSTART;TZID=Europe/Berlin:20151028T180000
DTEND;TZID=Europe/Berlin:20151028T210000
SEQUENCE:0
TRANSP:OPAQUE
END:VEVENT
END:VCALENDAR